BEGIN:VCALENDAR
VERSION:2.0
PRODID:-//Mountain Tennis Circuit - ECPv6.15.16//NONSGML v1.0//EN
CALSCALE:GREGORIAN
METHOD:PUBLISH
X-WR-CALNAME:Mountain Tennis Circuit
X-ORIGINAL-URL:https://mountaintennis.org
X-WR-CALDESC:Events for Mountain Tennis Circuit
REFRESH-INTERVAL;VALUE=DURATION:PT1H
X-Robots-Tag:noindex
X-PUBLISHED-TTL:PT1H
BEGIN:VTIMEZONE
TZID:America/New_York
BEGIN:DAYLIGHT
TZOFFSETFROM:-0500
TZOFFSETTO:-0400
TZNAME:EDT
DTSTART:20240310T070000
END:DAYLIGHT
BEGIN:STANDARD
TZOFFSETFROM:-0400
TZOFFSETTO:-0500
TZNAME:EST
DTSTART:20241103T060000
END:STANDARD
BEGIN:DAYLIGHT
TZOFFSETFROM:-0500
TZOFFSETTO:-0400
TZNAME:EDT
DTSTART:20250309T070000
END:DAYLIGHT
BEGIN:STANDARD
TZOFFSETFROM:-0400
TZOFFSETTO:-0500
TZNAME:EST
DTSTART:20251102T060000
END:STANDARD
BEGIN:DAYLIGHT
TZOFFSETFROM:-0500
TZOFFSETTO:-0400
TZNAME:EDT
DTSTART:20260308T070000
END:DAYLIGHT
BEGIN:STANDARD
TZOFFSETFROM:-0400
TZOFFSETTO:-0500
TZNAME:EST
DTSTART:20261101T060000
END:STANDARD
END:VTIMEZONE
BEGIN:VEVENT
DTSTART;VALUE=DATE:20250906
DTEND;VALUE=DATE:20250908
DTSTAMP:20260421T071257
CREATED:20250818T224504Z
LAST-MODIFIED:20250818T232439Z
UID:26044-1757116800-1757289599@mountaintennis.org
SUMMARY:Tournament - MTC LMU Art Brill Tennis Tournament
DESCRIPTION:
URL:https://mountaintennis.org/event/mtc-lmu-art-brill-tennis-tournament/
CATEGORIES:Tournaments
END:VEVENT
BEGIN:VEVENT
DTSTART;VALUE=DATE:20250920
DTEND;VALUE=DATE:20250922
DTSTAMP:20260421T071257
CREATED:20230430T003927Z
LAST-MODIFIED:20250818T224743Z
UID:12974-1758326400-1758499199@mountaintennis.org
SUMMARY:Tournament - MTC Berea Friends of the Animals Tennis Showdown
DESCRIPTION:
URL:https://mountaintennis.org/event/tournament-berea-friends-of-the-animals-tennis-showdown/
LOCATION:Berea College Tennis Courts\, Belle Hooks Way\, Berea\, KY\, 40403\, United States
CATEGORIES:Tournaments
ORGANIZER;CN="Mountain Tennis Circuit":MAILTO:aldeb8147@gmail.com
END:VEVENT
END:VCALENDAR